BEGIN:VCALENDAR
VERSION:2.0
PRODID:-//hacksw/handcal//NONSGML v1.0//EN
BEGIN:VEVENT
SUMMARY:Entrainement adulte encadre
UID:21ca828f-e43c-448a-ae8c-897a743d6c5b
DTSTART:20260618T170000Z
DTEND:20260618T183000Z
LOCATION:Localisation   
CATEGORIES:Sportif
STATUS:
DESCRIPTION:<p>le jeu libre s'arretera a 19h ce jeudi 18 juin.</p>
URL;VALUE=URI:https://www.fcl-feytiat-badminton.com/evenements/2026/06/18/entrainement-adulte-encadre-2443305
END:VEVENT
END:VCALENDAR
