BEGIN:VCALENDAR
VERSION:2.0
PRODID:-//hacksw/handcal//NONSGML v1.0//EN
BEGIN:VEVENT
SUMMARY:Entrainement adulte encadre
UID:09279624-931e-4c48-b0f3-26db20bf02f0
DTSTART:20260521T170000Z
DTEND:20260521T183000Z
LOCATION:Localisation   
CATEGORIES:Sportif
STATUS:
DESCRIPTION:<p>le jeu libre s'arretera a 19h ce jeudi 21 mai.</p>
URL;VALUE=URI:https://www.fcl-feytiat-badminton.com/evenements/2026/05/21/entrainement-adulte-encadre-2443302
END:VEVENT
END:VCALENDAR
