BEGIN:VCALENDAR
VERSION:2.0
PRODID:-//hacksw/handcal//NONSGML v1.0//EN
BEGIN:VEVENT
SUMMARY:Entrainement adulte encadre
UID:80da60cc-ae22-43a1-a359-e8dbdeaf430d
DTSTART:20260423T170000Z
DTEND:20260423T183000Z
LOCATION:Localisation   
CATEGORIES:Sportif
STATUS:
DESCRIPTION:<p>le jeu libre s'arretera a 19h ce jeudi 23 avril.</p>
URL;VALUE=URI:https://www.fcl-feytiat-badminton.com/evenements/2026/04/23/entrainement-adulte-encadre-2443298
END:VEVENT
END:VCALENDAR
