BEGIN:VCALENDAR
VERSION:2.0
PRODID:-//hacksw/handcal//NONSGML v1.0//EN
BEGIN:VEVENT
SUMMARY:interclub 6-D4 contre StLeonard
UID:025d7977-5776-4373-aa41-83e86ddd8958
DTSTART:20260419T220000Z
DTEND:20260420T220000Z
LOCATION:Localisation   
CATEGORIES:Sportif
STATUS:
URL;VALUE=URI:https://www.fcl-feytiat-badminton.com/evenements/2026/04/20/interclub-6-d4-contre-stleonard-2443710
END:VEVENT
END:VCALENDAR
