BEGIN:VCALENDAR
VERSION:2.0
PRODID:-//hacksw/handcal//NONSGML v1.0//EN
BEGIN:VEVENT
SUMMARY:IC regionale 3 contre l'ASBAD
UID:38c1c417-e08e-4d76-9317-edd3bf325c21
DTSTART:20260328T230000Z
DTEND:20260329T230000Z
LOCATION:Localisation   
CATEGORIES:Sportif
STATUS:
URL;VALUE=URI:https://www.fcl-feytiat-badminton.com/evenements/2026/03/29/ic-regionale-3-contre-lasbad-2443316
END:VEVENT
END:VCALENDAR
