BEGIN:VCALENDAR
VERSION:2.0
PRODID:-//hacksw/handcal//NONSGML v1.0//EN
BEGIN:VEVENT
SUMMARY:IC 3-D2 contre Aixe sur Vienne
UID:611f2361-9cfd-472e-b6f2-dc833137c9ec
DTSTART:20260322T230000Z
DTEND:20260323T230000Z
LOCATION:Localisation   
CATEGORIES:Sportif
STATUS:
URL;VALUE=URI:https://www.fcl-feytiat-badminton.com/evenements/2026/03/23/ic-3-d2-contre-aixe-sur-vienne-2443329
END:VEVENT
END:VCALENDAR
