BEGIN:VCALENDAR
VERSION:2.0
PRODID:-//hacksw/handcal//NONSGML v1.0//EN
BEGIN:VEVENT
SUMMARY:IC regionale 3 J J8 contre Isle
UID:c8148798-6b79-4fc6-ac4d-ea9acecf75c8
DTSTART:20260314T230000Z
DTEND:20260315T230000Z
LOCATION:Localisation   
CATEGORIES:Sportif
STATUS:
URL;VALUE=URI:https://www.fcl-feytiat-badminton.com/evenements/2026/03/15/ic-regionale-3-j-j8-contre-isle-2443314
END:VEVENT
END:VCALENDAR
