BEGIN:VCALENDAR
VERSION:2.0
PRODID:-//hacksw/handcal//NONSGML v1.0//EN
BEGIN:VEVENT
SUMMARY:IC 4-D2 contre Boisseuil
UID:018839ed-c664-465d-88f9-7866fb0a67a8
DTSTART:20260301T230000Z
DTEND:20260302T230000Z
LOCATION:Localisation   
CATEGORIES:Sportif
STATUS:
URL;VALUE=URI:https://www.fcl-feytiat-badminton.com/evenements/2026/03/02/ic-4-d2-contre-boisseuil-2443333
END:VEVENT
END:VCALENDAR
