BEGIN:VCALENDAR
VERSION:2.0
PRODID:-//hacksw/handcal//NONSGML v1.0//EN
BEGIN:VEVENT
SUMMARY:IC 2-PR contre Verneuil
UID:06ce1d55-21e5-42a3-bea5-3ca508b534c8
DTSTART:20260301T230000Z
DTEND:20260302T230000Z
LOCATION:Localisation   
CATEGORIES:Sportif
STATUS:
URL;VALUE=URI:https://www.fcl-feytiat-badminton.com/evenements/2026/03/02/ic-2-pr-contre-verneuil-2443327
END:VEVENT
END:VCALENDAR
