BEGIN:VCALENDAR
VERSION:2.0
PRODID:-//hacksw/handcal//NONSGML v1.0//EN
BEGIN:VEVENT
SUMMARY:IC 6-D4 contre Panazol
UID:2efdaf21-8a09-4137-9823-f07dee0877b0
DTSTART:20260222T230000Z
DTEND:20260223T230000Z
LOCATION:Localisation   
CATEGORIES:Sportif
STATUS:
URL;VALUE=URI:https://www.fcl-feytiat-badminton.com/evenements/2026/02/23/ic-6-d4-contre-panazol-2443337
END:VEVENT
END:VCALENDAR
